BEGIN:VCALENDAR
VERSION:2.0
PRODID:-//Rockland Chamber Alliance - ECPv6.15.14//NONSGML v1.0//EN
CALSCALE:GREGORIAN
METHOD:PUBLISH
X-WR-CALNAME:Rockland Chamber Alliance
X-ORIGINAL-URL:https://rocklandchamber.org
X-WR-CALDESC:Events for Rockland Chamber Alliance
REFRESH-INTERVAL;VALUE=DURATION:PT1H
X-Robots-Tag:noindex
X-PUBLISHED-TTL:PT1H
BEGIN:VTIMEZONE
TZID:America/New_York
BEGIN:DAYLIGHT
TZOFFSETFROM:-0500
TZOFFSETTO:-0400
TZNAME:EDT
DTSTART:20200308T070000
END:DAYLIGHT
BEGIN:STANDARD
TZOFFSETFROM:-0400
TZOFFSETTO:-0500
TZNAME:EST
DTSTART:20201101T060000
END:STANDARD
BEGIN:DAYLIGHT
TZOFFSETFROM:-0500
TZOFFSETTO:-0400
TZNAME:EDT
DTSTART:20210314T070000
END:DAYLIGHT
BEGIN:STANDARD
TZOFFSETFROM:-0400
TZOFFSETTO:-0500
TZNAME:EST
DTSTART:20211107T060000
END:STANDARD
BEGIN:DAYLIGHT
TZOFFSETFROM:-0500
TZOFFSETTO:-0400
TZNAME:EDT
DTSTART:20220313T070000
END:DAYLIGHT
BEGIN:STANDARD
TZOFFSETFROM:-0400
TZOFFSETTO:-0500
TZNAME:EST
DTSTART:20221106T060000
END:STANDARD
END:VTIMEZONE
BEGIN:VEVENT
DTSTART;TZID=America/New_York:20211128T110000
DTEND;TZID=America/New_York:20211128T163000
DTSTAMP:20260425T204900
CREATED:20211113T182134Z
LAST-MODIFIED:20211113T182134Z
UID:44-1638097200-1638117000@rocklandchamber.org
SUMMARY:North Rockland's Small Business Saturday!
DESCRIPTION:The North Rockland Chamber be offering great reasons to #ShopSmall in North Rockland! \nCheck this out: \nIf you spend $200 in North Rockland from any\nparticipating business on this list\,\nthey’ll give you $20 (that’s 10%) back\, same day!\nLearn more about this event.
URL:https://rocklandchamber.org/event/north-rocklands-small-business-saturday/
END:VEVENT
END:VCALENDAR