BEGIN:VCALENDAR
VERSION:2.0
PRODID:-//Rockland Chamber Alliance - ECPv6.15.14//NONSGML v1.0//EN
CALSCALE:GREGORIAN
METHOD:PUBLISH
X-WR-CALNAME:Rockland Chamber Alliance
X-ORIGINAL-URL:https://rocklandchamber.org
X-WR-CALDESC:Events for Rockland Chamber Alliance
REFRESH-INTERVAL;VALUE=DURATION:PT1H
X-Robots-Tag:noindex
X-PUBLISHED-TTL:PT1H
BEGIN:VTIMEZONE
TZID:America/New_York
BEGIN:DAYLIGHT
TZOFFSETFROM:-0500
TZOFFSETTO:-0400
TZNAME:EDT
DTSTART:20210314T070000
END:DAYLIGHT
BEGIN:STANDARD
TZOFFSETFROM:-0400
TZOFFSETTO:-0500
TZNAME:EST
DTSTART:20211107T060000
END:STANDARD
BEGIN:DAYLIGHT
TZOFFSETFROM:-0500
TZOFFSETTO:-0400
TZNAME:EDT
DTSTART:20220313T070000
END:DAYLIGHT
BEGIN:STANDARD
TZOFFSETFROM:-0400
TZOFFSETTO:-0500
TZNAME:EST
DTSTART:20221106T060000
END:STANDARD
BEGIN:DAYLIGHT
TZOFFSETFROM:-0500
TZOFFSETTO:-0400
TZNAME:EDT
DTSTART:20230312T070000
END:DAYLIGHT
BEGIN:STANDARD
TZOFFSETFROM:-0400
TZOFFSETTO:-0500
TZNAME:EST
DTSTART:20231105T060000
END:STANDARD
END:VTIMEZONE
BEGIN:VEVENT
DTSTART;VALUE=DATE:20220403
DTEND;VALUE=DATE:20220404
DTSTAMP:20260425T192118
CREATED:20220302T173002Z
LAST-MODIFIED:20220302T180434Z
UID:65-1648944000-1649030399@rocklandchamber.org
SUMMARY:Egg My Yard
DESCRIPTION:Purchase your candy/toy-filled eggs\, and Pearl River’s “Easter Bunny Helpers” will hide them in your front yard!
URL:https://rocklandchamber.org/event/egg-my-yard/
LOCATION:Pearl River NY\, Pearl River\, NY\, 10965\, United States
CATEGORIES:Chambers of Commerce,Pearl River Chamber of Commerce
ATTACH;FMTTYPE=image/jpeg:https://rocklandchamber.org/wp-content/uploads/2022/03/PRC-LOGO.jpg
END:VEVENT
BEGIN:VEVENT
DTSTART;TZID=America/New_York:20220401T183000
DTEND;TZID=America/New_York:20220401T203000
DTSTAMP:20260425T192118
CREATED:20220302T174520Z
LAST-MODIFIED:20220302T180416Z
UID:73-1648837800-1648845000@rocklandchamber.org
SUMMARY:Nanuet & Beyond/Nanuet Schools Art Exhibition
DESCRIPTION:For More Details See https://www.nanuetandbeyond.org/8th-annual-art-exhibition.html and list fop stores displaying the art. \nThe event is open to the public and Nanuet and Beyond is suggesting a $10 donation per family to help cover the costs associated with the event. Any donations made to Nanuet and Beyond (www.nanuetandbeyond.org) will go back to the community through programs like this and scholarships for graduating seniors from local high schools. If you wish to donate specifically for this event you can do so here: 8th Annual Art Exhibition.
URL:https://rocklandchamber.org/event/nanuet-beyond-nanuet-schools-art-exhibition/
LOCATION:Palisades Center East Court L1\, East Court Level One\, West Nyack\, NY\, 10994\, United States
CATEGORIES:Chambers of Commerce,Nanuet Chamber of Commerce
ATTACH;FMTTYPE=image/jpeg:https://rocklandchamber.org/wp-content/uploads/2022/03/Screenshot-2022-03-02-124451.jpg
END:VEVENT
BEGIN:VEVENT
DTSTART;TZID=America/New_York:20220314T190000
DTEND;TZID=America/New_York:20220314T210000
DTSTAMP:20260425T192118
CREATED:20220308T222521Z
LAST-MODIFIED:20220308T222642Z
UID:89-1647284400-1647291600@rocklandchamber.org
SUMMARY:Sloatsburg Chamber March Mixer!
DESCRIPTION:Food\, drinks\, music & Networking! Members $30 / Non-Members $35. Come meet fellow business owners. Admission includes: One drink ticket per person\, tray-passed sliders\, tray-passed Belgium Fries\, selection of aiolis\, sandwich platter. Raffles for prizes\, 50/50 raffles. \nFull details available at the Sloatsburg Chamber of Commerce website.
URL:https://rocklandchamber.org/event/sloatsburg-chamber-march-mixer/
LOCATION:Seven Lakes Station\, 80 Orange Turnpike\, Sloatsburg\, NY\, 10974\, United States
CATEGORIES:Sloatsburg Chamber of Commerce
ATTACH;FMTTYPE=image/jpeg:https://rocklandchamber.org/wp-content/uploads/2022/03/Screenshot-2022-03-08-172108.jpg
END:VEVENT
END:VCALENDAR