BEGIN:VCALENDAR
VERSION:2.0
PRODID:-//Rockland Chamber Alliance - ECPv6.15.14//NONSGML v1.0//EN
CALSCALE:GREGORIAN
METHOD:PUBLISH
X-ORIGINAL-URL:https://rocklandchamber.org
X-WR-CALDESC:Events for Rockland Chamber Alliance
REFRESH-INTERVAL;VALUE=DURATION:PT1H
X-Robots-Tag:noindex
X-PUBLISHED-TTL:PT1H
BEGIN:VTIMEZONE
TZID:America/New_York
BEGIN:DAYLIGHT
TZOFFSETFROM:-0500
TZOFFSETTO:-0400
TZNAME:EDT
DTSTART:20210314T070000
END:DAYLIGHT
BEGIN:STANDARD
TZOFFSETFROM:-0400
TZOFFSETTO:-0500
TZNAME:EST
DTSTART:20211107T060000
END:STANDARD
BEGIN:DAYLIGHT
TZOFFSETFROM:-0500
TZOFFSETTO:-0400
TZNAME:EDT
DTSTART:20220313T070000
END:DAYLIGHT
BEGIN:STANDARD
TZOFFSETFROM:-0400
TZOFFSETTO:-0500
TZNAME:EST
DTSTART:20221106T060000
END:STANDARD
BEGIN:DAYLIGHT
TZOFFSETFROM:-0500
TZOFFSETTO:-0400
TZNAME:EDT
DTSTART:20230312T070000
END:DAYLIGHT
BEGIN:STANDARD
TZOFFSETFROM:-0400
TZOFFSETTO:-0500
TZNAME:EST
DTSTART:20231105T060000
END:STANDARD
END:VTIMEZONE
BEGIN:VEVENT
DTSTART;TZID=America/New_York:20220625T120000
DTEND;TZID=America/New_York:20220625T200000
DTSTAMP:20260425T201225
CREATED:20220608T165607Z
LAST-MODIFIED:20220608T165731Z
UID:99-1656158400-1656187200@rocklandchamber.org
SUMMARY:Stony Music Fest (8th Annual)
DESCRIPTION:6 bands. On stage. All day. Riverfront Park. Stony Point. \nEnjoy a day of rock\, jazz\, hip-hop\, acoustic and much more! Proceeds from this festival will go to Habitat for Humanity\, as well as to our performing artists. \nSpecial thanks to the Town of Stony Point\, and the North Rockland Chamber of Commerce. \nTICKETS
URL:https://rocklandchamber.org/event/stony-music-fest-8th-annual/
LOCATION:NY
CATEGORIES:North Rockland Chamber of Commerce
ATTACH;FMTTYPE=image/png:https://rocklandchamber.org/wp-content/uploads/2022/06/Stony-Music-Fest-Logo2.png
END:VEVENT
END:VCALENDAR