BEGIN:VCALENDAR
VERSION:2.0
PRODID:-//Rockland Chamber Alliance - ECPv6.15.14//NONSGML v1.0//EN
CALSCALE:GREGORIAN
METHOD:PUBLISH
X-WR-CALNAME:Rockland Chamber Alliance
X-ORIGINAL-URL:https://rocklandchamber.org
X-WR-CALDESC:Events for Rockland Chamber Alliance
REFRESH-INTERVAL;VALUE=DURATION:PT1H
X-Robots-Tag:noindex
X-PUBLISHED-TTL:PT1H
BEGIN:VTIMEZONE
TZID:America/New_York
BEGIN:DAYLIGHT
TZOFFSETFROM:-0500
TZOFFSETTO:-0400
TZNAME:EDT
DTSTART:20210314T070000
END:DAYLIGHT
BEGIN:STANDARD
TZOFFSETFROM:-0400
TZOFFSETTO:-0500
TZNAME:EST
DTSTART:20211107T060000
END:STANDARD
BEGIN:DAYLIGHT
TZOFFSETFROM:-0500
TZOFFSETTO:-0400
TZNAME:EDT
DTSTART:20220313T070000
END:DAYLIGHT
BEGIN:STANDARD
TZOFFSETFROM:-0400
TZOFFSETTO:-0500
TZNAME:EST
DTSTART:20221106T060000
END:STANDARD
BEGIN:DAYLIGHT
TZOFFSETFROM:-0500
TZOFFSETTO:-0400
TZNAME:EDT
DTSTART:20230312T070000
END:DAYLIGHT
BEGIN:STANDARD
TZOFFSETFROM:-0400
TZOFFSETTO:-0500
TZNAME:EST
DTSTART:20231105T060000
END:STANDARD
END:VTIMEZONE
BEGIN:VEVENT
DTSTART;TZID=America/New_York:20220510T183000
DTEND;TZID=America/New_York:20220510T213000
DTSTAMP:20260425T215702
CREATED:20220302T175220Z
LAST-MODIFIED:20220302T180508Z
UID:79-1652207400-1652218200@rocklandchamber.org
SUMMARY:Nanuet & Beyond Trivia Night Fundraiser
DESCRIPTION:Join us for a fun night of Trivia and entertainment – all for a great cause to raise scholarship funds for Nanuet & Beyond! \nTest your skill on a variety of general knowledge questions. Our host will explain the rules that evening. Questions are answered via your phone/tablet. \n\nThere are 5 rounds of 10 questions each\nEach question is multiple choice and has a 30-second timer. The quicker you answer correctly\, the more points you earn.\nEach round the question values increase.\nPrizes will be awarded to first and second place winners\n\nWe will have outdoor patio tables that can spill over to inside the restaurant. \nThe Trivia Game will start at approximately 7:00 PM allowing everyone to check-in\, mingle and order drinks and food. Gardenias is graciously preparing a special menu for our event. \nNanuet & Beyond is setting a modest $20 tax-deductible donation per person. \nAdditional donations or sponsors are always welcome and greatly appreciated!
URL:https://rocklandchamber.org/event/nanuet-beyond-trivia-night-fundraiser/
LOCATION:Gardenia’s Restaurant\, 149 S. Middletown Road\, Nanuet\, NY\, 10954\, United States
CATEGORIES:Chambers of Commerce,Nanuet Chamber of Commerce
ATTACH;FMTTYPE=image/jpeg:https://rocklandchamber.org/wp-content/uploads/2022/03/Screenshot-2022-03-02-125154.jpg
END:VEVENT
END:VCALENDAR